BEGIN:VCALENDAR
VERSION:2.0
PRODID:-//St. Maximin-Schule - ECPv6.15.11//NONSGML v1.0//EN
CALSCALE:GREGORIAN
METHOD:PUBLISH
X-WR-CALNAME:St. Maximin-Schule
X-ORIGINAL-URL:https://st-maximin.de
X-WR-CALDESC:Veranstaltungen für St. Maximin-Schule
REFRESH-INTERVAL;VALUE=DURATION:PT1H
X-Robots-Tag:noindex
X-PUBLISHED-TTL:PT1H
BEGIN:VTIMEZONE
TZID:UTC
BEGIN:STANDARD
TZOFFSETFROM:+0000
TZOFFSETTO:+0000
TZNAME:UTC
DTSTART:20240101T000000
END:STANDARD
END:VTIMEZONE
BEGIN:VEVENT
DTSTART;VALUE=DATE:20250131
DTEND;VALUE=DATE:20250202
DTSTAMP:20260421T194643
CREATED:20240924T075800Z
LAST-MODIFIED:20240924T075800Z
UID:6723-1738281600-1738454399@st-maximin.de
SUMMARY:Aufnahmegespräche für Klasse 5
DESCRIPTION:
URL:https://st-maximin.de/kalender/aufnahmegespraeche-fuer-klasse-5/
END:VEVENT
BEGIN:VEVENT
DTSTART;VALUE=DATE:20250206
DTEND;VALUE=DATE:20250208
DTSTAMP:20260421T194643
CREATED:20240924T075926Z
LAST-MODIFIED:20240924T075926Z
UID:6725-1738800000-1738972799@st-maximin.de
SUMMARY:Elternsprechtage Klassen 5\, 6\, 7
DESCRIPTION:6.2.25: Nachmittagstermine\n7.2.25: Vormittagstermine
URL:https://st-maximin.de/kalender/elternsprechtage-klassen-5-6-7/
END:VEVENT
BEGIN:VEVENT
DTSTART;VALUE=DATE:20250213
DTEND;VALUE=DATE:20250215
DTSTAMP:20260421T194643
CREATED:20240924T080039Z
LAST-MODIFIED:20240924T080039Z
UID:6727-1739404800-1739577599@st-maximin.de
SUMMARY:Elternsprechtage Klassen 8\, 9\, 10
DESCRIPTION:13.2.25: Nachmittagstermine\n14.2.25: Vormittagstermine
URL:https://st-maximin.de/kalender/elternsprechtage-klassen-8-9-10/
END:VEVENT
BEGIN:VEVENT
DTSTART;VALUE=DATE:20250227
DTEND;VALUE=DATE:20250228
DTSTAMP:20260421T194643
CREATED:20240924T080123Z
LAST-MODIFIED:20240924T080123Z
UID:6729-1740614400-1740700799@st-maximin.de
SUMMARY:Weiberfastnacht (beweglicher Ferientag)
DESCRIPTION:
URL:https://st-maximin.de/kalender/weiberfastnacht-beweglicher-ferientag/
END:VEVENT
BEGIN:VEVENT
DTSTART;VALUE=DATE:20250228
DTEND;VALUE=DATE:20250301
DTSTAMP:20260421T194643
CREATED:20240924T080207Z
LAST-MODIFIED:20240924T080321Z
UID:6731-1740700800-1740787199@st-maximin.de
SUMMARY:Karnevalsfreitag (beweglicher Ferientag)
DESCRIPTION:
URL:https://st-maximin.de/kalender/karnevalsdienstag-beweglicher-ferientag/
END:VEVENT
END:VCALENDAR