BEGIN:VCALENDAR
VERSION:2.0
PRODID:-//St. Maximin-Schule - ECPv6.15.11//NONSGML v1.0//EN
CALSCALE:GREGORIAN
METHOD:PUBLISH
X-WR-CALNAME:St. Maximin-Schule
X-ORIGINAL-URL:https://st-maximin.de
X-WR-CALDESC:Veranstaltungen für St. Maximin-Schule
REFRESH-INTERVAL;VALUE=DURATION:PT1H
X-Robots-Tag:noindex
X-PUBLISHED-TTL:PT1H
BEGIN:VTIMEZONE
TZID:UTC
BEGIN:STANDARD
TZOFFSETFROM:+0000
TZOFFSETTO:+0000
TZNAME:UTC
DTSTART:20240101T000000
END:STANDARD
END:VTIMEZONE
BEGIN:VEVENT
DTSTART;VALUE=DATE:20250414
DTEND;VALUE=DATE:20250426
DTSTAMP:20260422T014341
CREATED:20240924T080457Z
LAST-MODIFIED:20240924T080457Z
UID:6740-1744588800-1745625599@st-maximin.de
SUMMARY:Osterferien
DESCRIPTION:
URL:https://st-maximin.de/kalender/osterferien-2/
END:VEVENT
END:VCALENDAR