BEGIN:VCALENDAR
VERSION:2.0
PRODID:-//St. Maximin-Schule - ECPv6.15.11//NONSGML v1.0//EN
CALSCALE:GREGORIAN
METHOD:PUBLISH
X-ORIGINAL-URL:https://st-maximin.de
X-WR-CALDESC:Veranstaltungen für St. Maximin-Schule
REFRESH-INTERVAL;VALUE=DURATION:PT1H
X-Robots-Tag:noindex
X-PUBLISHED-TTL:PT1H
BEGIN:VTIMEZONE
TZID:UTC
BEGIN:STANDARD
TZOFFSETFROM:+0000
TZOFFSETTO:+0000
TZNAME:UTC
DTSTART:20240101T000000
END:STANDARD
END:VTIMEZONE
BEGIN:VEVENT
DTSTART;VALUE=DATE:20250118
DTEND;VALUE=DATE:20250125
DTSTAMP:20260421T211639
CREATED:20240924T075017Z
LAST-MODIFIED:20240924T075017Z
UID:6709-1737158400-1737763199@st-maximin.de
SUMMARY:Skiexkursion
DESCRIPTION:
URL:https://st-maximin.de/kalender/skiexkursion/
END:VEVENT
BEGIN:VEVENT
DTSTART;VALUE=DATE:20250120
DTEND;VALUE=DATE:20250125
DTSTAMP:20260421T211639
CREATED:20240924T075053Z
LAST-MODIFIED:20240924T075053Z
UID:6711-1737331200-1737763199@st-maximin.de
SUMMARY:Sozialpraktikum
DESCRIPTION:
URL:https://st-maximin.de/kalender/sozialpraktikum/
END:VEVENT
END:VCALENDAR