BEGIN:VCALENDAR
VERSION:2.0
PRODID:-//St. Maximin-Schule - ECPv6.15.11//NONSGML v1.0//EN
CALSCALE:GREGORIAN
METHOD:PUBLISH
X-WR-CALNAME:St. Maximin-Schule
X-ORIGINAL-URL:https://st-maximin.de
X-WR-CALDESC:Veranstaltungen für St. Maximin-Schule
REFRESH-INTERVAL;VALUE=DURATION:PT1H
X-Robots-Tag:noindex
X-PUBLISHED-TTL:PT1H
BEGIN:VTIMEZONE
TZID:UTC
BEGIN:STANDARD
TZOFFSETFROM:+0000
TZOFFSETTO:+0000
TZNAME:UTC
DTSTART:20230101T000000
END:STANDARD
END:VTIMEZONE
BEGIN:VEVENT
DTSTART;TZID=UTC:20241108T160000
DTEND;TZID=UTC:20241108T193000
DTSTAMP:20260421T175548
CREATED:20240924T074432Z
LAST-MODIFIED:20240924T074432Z
UID:6705-1731081600-1731094200@st-maximin.de
SUMMARY:Tag der offenen Tür
DESCRIPTION:
URL:https://st-maximin.de/kalender/tag-der-offenen-tuer-2/
END:VEVENT
END:VCALENDAR