BEGIN:VCALENDAR
VERSION:2.0
PRODID:-//St. Maximin-Schule - ECPv6.15.11//NONSGML v1.0//EN
CALSCALE:GREGORIAN
METHOD:PUBLISH
X-WR-CALNAME:St. Maximin-Schule
X-ORIGINAL-URL:https://st-maximin.de
X-WR-CALDESC:Veranstaltungen für St. Maximin-Schule
REFRESH-INTERVAL;VALUE=DURATION:PT1H
X-Robots-Tag:noindex
X-PUBLISHED-TTL:PT1H
BEGIN:VTIMEZONE
TZID:UTC
BEGIN:STANDARD
TZOFFSETFROM:+0000
TZOFFSETTO:+0000
TZNAME:UTC
DTSTART:20230101T000000
END:STANDARD
END:VTIMEZONE
BEGIN:VEVENT
DTSTART;VALUE=DATE:20240930
DTEND;VALUE=DATE:20241005
DTSTAMP:20260421T105517
CREATED:20240924T075539Z
LAST-MODIFIED:20240924T075539Z
UID:6717-1727654400-1728086399@st-maximin.de
SUMMARY:Profil AC\, Klasse 8
DESCRIPTION:
URL:https://st-maximin.de/kalender/profil-ac-klasse-8/
END:VEVENT
BEGIN:VEVENT
DTSTART;VALUE=DATE:20240930
DTEND;VALUE=DATE:20241012
DTSTAMP:20260421T105517
CREATED:20240924T074006Z
LAST-MODIFIED:20240924T074006Z
UID:6697-1727654400-1728691199@st-maximin.de
SUMMARY:Praktikum Klassen 9 und 10
DESCRIPTION:
URL:https://st-maximin.de/kalender/praktikum-klassen-9-und-10/
END:VEVENT
END:VCALENDAR